Workbook
Name TIM_DOMAINC_HIGH_RES: _xlfn.LAMBDA(_xlpm.X,_xlpm.Y,TIM_HBLAU(_xlpm.X,_xlpm.Y))
Name TIM_DOMAINC_INSIDE_DOMAIN: _xlfn.LAMBDA(_xlpm.X,_xlpm.Y,AND(_xlpm.X>=-5,_xlpm.X<=5,_xlpm.Y>=-5,_xlpm.Y<=5))
Name TIM_DOMAINC_LOW_RES: _xlfn.LAMBDA(_xlpm.X,_xlpm.Y,_xlfn.LET(_xlpm.W,TIM_DOMAINC_WEIGHTS(),SUM(_xlpm.W*_xlfn.VSTACK(1,_xlpm.X,_xlpm.Y,_xlpm.X^2,_xlpm.X*_xlpm.Y,_xlpm.Y^2,_xlpm.X^3,_xlpm.X^2*_xlpm.Y,_xlpm.X*_xlpm.Y^2))))
Name TIM_DOMAINC_PREDICT: _xlfn.LAMBDA(_xlpm.X,_xlpm.Y,IF(NOT(TIM_DOMAINC_INSIDE_DOMAIN(_xlpm.X,_xlpm.Y)),10000,IF(TIM_PROMPT_RESOLUTION()="HI_RES",TIM_DOMAINC_HIGH_RES(_xlpm.X,_xlpm.Y),TIM_DOMAINC_LOW_RES(_xlpm.X,_xlpm.Y))))
Name TIM_DOMAINC_WEIGHTS: _xlfn.LAMBDA(_xlfn.TOCOL(INFERENCE!$C$19:$C$27))
Name TIM_DOMAINC_WEIGHTS: _xlfn.LAMBDA(_xlfn.TOCOL(#REF!))
Name TIM_INFER: _xlfn.LAMBDA(_xlfn.VSTACK({"Hop","X","Y","Z","Heading","Norm Uphill","Norm Distance","Score","Cumulative Decision Score","Distance"},INFERENCE!TIM_GLOOP_RUN()))
Name TIM_INFER: _xlfn.LAMBDA(_xlfn.VSTACK({"Hop","X","Y","Z","Heading","Norm Uphill","Norm Distance","Score","Cumulative Decision Score","Distance"},TIM_GLOOP_RUN()))
Name TIM_PROMPT_ANGLE_STEP: _xlfn.LAMBDA(15)
Name TIM_PROMPT_DISTANCE: _xlfn.LAMBDA(_xlpm.AX,_xlpm.AY,_xlpm.BX,_xlpm.BY,SQRT((_xlpm.BX-_xlpm.AX)^2+(_xlpm.BY-_xlpm.AY)^2))
Name TIM_PROMPT_END_X: _xlfn.LAMBDA(INFERENCE!$C$9)
Name TIM_PROMPT_END_X: _xlfn.LAMBDA(#REF!)
Name TIM_PROMPT_END_Y: _xlfn.LAMBDA(INFERENCE!$D$9)
Name TIM_PROMPT_END_Y: _xlfn.LAMBDA(#REF!)
Name TIM_PROMPT_HEADING: _xlfn.LAMBDA(_xlpm.AX,_xlpm.AY,_xlpm.BX,_xlpm.BY,MOD(DEGREES(ATAN2(_xlpm.BX-_xlpm.AX,_xlpm.BY-_xlpm.AY)),360))
Name TIM_PROMPT_HOP_LENGTH: _xlfn.LAMBDA(1)
Name TIM_PROMPT_MAX_HOPS: _xlfn.LAMBDA(1000)
Name TIM_PROMPT_MIN_COURSE_CHANGE: _xlfn.LAMBDA(15)
Name TIM_PROMPT_RESOLUTION: _xlfn.LAMBDA(INFERENCE!$D$10)
Name TIM_PROMPT_RESOLUTION: _xlfn.LAMBDA(#REF!)
Name TIM_PROMPT_START_X: _xlfn.LAMBDA(INFERENCE!$C$8)
Name TIM_PROMPT_START_X: _xlfn.LAMBDA(#REF!)
Name TIM_PROMPT_START_Y: _xlfn.LAMBDA(INFERENCE!$D$8)
Name TIM_PROMPT_START_Y: _xlfn.LAMBDA(#REF!)
Name TIM_PROMPT_VISITED_RADIUS: _xlfn.LAMBDA(0.25)

Sheet LEARNING
A1: 9-Weight Surface Learning Model ( use F9 to recalculate)
A2: Recursive least squares learns a compressed nine-parameter approximation of the true Himmelblau terrain.
D3: HOW TO READ THIS SHEET
B4: Setting | C4: Value | D4: 1. INITIALIZE: weights start at 0; uncertainty starts very high.
B5: Training points | C5: 250 | D5: 2. OBSERVE: generate x and y, calculate true z, then add noise.
B6: Noise σ | C6: 11.177 | D6: 3. ENCODE: use nine selected features; x⁴ and y⁴ are deliberately omitted.
D7: 4. LEARN: prediction error updates the weights and reduces uncertainty.
B8: FEATURE | C8: LEARNED
B9: 1 (constant) | C9: {=TRANSPOSE(_xlfn.XLOOKUP($C$5,$A$23:$A$3022,$R$23:$Z$3022))} -> 66.794587 | E9: WHAT LEARNING DOES
B10: x | C10: -15.461597 | E10: New observation
B11: y | C11: -20.527653 | E11: ↓
B12: x² | C12: 0.3110792 | E12: Prediction error
B13: x·y | C13: -0.16842635 | E13: ↓
B14: y² | C14: 7.9924764 | E14: Update weights
B15: x³ | C15: -0.025906069 | E15: ↓
B16: x²·y | C16: 1.7757946 | E16: Update covariance P
B17: x·y² | C17: 1.9758987 | E17: ↓
E18: Lower parameter uncertainty
A20: Note: learned weights need not equal generating coefficients because the representation omits x⁴ and y⁴. | I20: High confidence in the estimated parameters does not necessarily imply an accurate representation of the environment.
A21: 1 OBSERVE | H21: 2 ENCODE FEATURES | Q21: 3 VARIANCE | R21: 4 UPDATE WEIGHTS | AA21: 5 TRACK UNCERTAINTY
A22: ID | B22: Split | C22: x | D22: y | E22: True z | F22: Noise | G22: Observed z | H22: 1 | I22: x | J22: y | K22: x² | L22: x·y | M22: y² | N22: x³ | O22: x²·y | P22: x·y² | Q22: Trace of covariance P | R22: w(1) | S22: w(x) | T22: w(y) | U22: w(x²) | V22: w(x·y) | W22: w(y²) | X22: w(x³) | Y22: w(x²·y) | Z22: w(x·y²) | AA22: P11 | AB22: P12 | AC22: P13 | AD22: P14 | AE22: P15 | AF22: P16 | AG22: P17 | AH22: P18 | AI22: P19 | AJ22: P21 | AK22: P22 | AL22: P23 | AM22: P24 | AN22: P25 | AO22: P26 | AP22: P27 | AQ22: P28 | AR22: P29 | AS22: P31 | AT22: P32 | AU22: P33 | AV22: P34 | AW22: P35 | AX22: P36 | AY22: P37 | AZ22: P38 | BA22: P39 | BB22: P41 | BC22: P42 | BD22: P43 | BE22: P44 | BF22: P45 | BG22: P46 | BH22: P47 | BI22: P48 | BJ22: P49 | BK22: P51 | BL22: P52 | BM22: P53 | BN22: P54 | BO22: P55 | BP22: P56 | BQ22: P57 | BR22: P58 | BS22: P59 | BT22: P61 | BU22: P62 | BV22: P63 | BW22: P64 | BX22: P65 | BY22: P66 | BZ22: P67 | CA22: P68 | CB22: P69 | CC22: P71 | CD22: P72 | CE22: P73 | CF22: P74 | CG22: P75 | CH22: P76 | CI22: P77 | CJ22: P78 | CK22: P79 | CL22: P81 | CM22: P82 | CN22: P83 | CO22: P84 | CP22: P85 | CQ22: P86 | CR22: P87 | CS22: P88 | CT22: P89 | CU22: P91 | CV22: P92 | CW22: P93 | CX22: P94 | CY22: P95 | CZ22: P96 | DA22: P97 | DB22: P98 | DC22: P99 | DD22: Absolute prediction error (archived)
A23: 0 | B23: {=_xlfn.VSTACK("INITIALIZE",_xlfn.MAKEARRAY($C$5,1,_xlfn.LAMBDA(_xlpm.r,_xlpm.c,"Train")))} -> INITIALIZE | C23: 0 | D23: 0 | H23: {=TIM_ENCODE9(C23,D23)} -> 1 | I23: 0 | J23: 0 | K23: 0 | L23: 0 | M23: 0 | N23: 0 | O23: 0 | P23: 0 | Q23: =SUM(AA23,AK23,AU23,BE23,BO23,BY23,CI23,CS23,DC23) -> 9000000 | R23: {=TIM_RLS9(A23,0,_xlfn.ANCHORARRAY(H23),G23)} -> 0 | S23: 0 | T23: 0 | U23: 0 | V23: 0 | W23: 0 | X23: 0 | Y23: 0 | Z23: 0 | AA23: 1000000 | AB23: 0 | AC23: 0 | AD23: 0 | AE23: 0 | AF23: 0 | AG23: 0 | AH23: 0 | AI23: 0 | AJ23: 0 | AK23: 1000000 | AL23: 0 | AM23: 0 | AN23: 0 | AO23: 0 | AP23: 0 | AQ23: 0 | AR23: 0 | AS23: 0 | AT23: 0 | AU23: 1000000 | AV23: 0 | AW23: 0 | AX23: 0 | AY23: 0 | AZ23: 0 | BA23: 0 | BB23: 0 | BC23: 0 | BD23: 0 | BE23: 1000000 | BF23: 0 | BG23: 0 | BH23: 0 | BI23: 0 | BJ23: 0 | BK23: 0 | BL23: 0 | BM23: 0 | BN23: 0 | BO23: 1000000 | BP23: 0 | BQ23: 0 | BR23: 0 | BS23: 0 | BT23: 0 | BU23: 0 | BV23: 0 | BW23: 0 | BX23: 0 | BY23: 1000000 | BZ23: 0 | CA23: 0 | CB23: 0 | CC23: 0 | CD23: 0 | CE23: 0 | CF23: 0 | CG23: 0 | CH23: 0 | CI23: 1000000 | CJ23: 0 | CK23: 0 | CL23: 0 | CM23: 0 | CN23: 0 | CO23: 0 | CP23: 0 | CQ23: 0 | CR23: 0 | CS23: 1000000 | CT23: 0 | CU23: 0 | CV23: 0 | CW23: 0 | CX23: 0 | CY23: 0 | CZ23: 0 | DA23: 0 | DB23: 0 | DC23: 1000000
A24: =A23+1 -> 1 | B24: Train | C24: {=TIM_RAND_BETWEEN2(-5,5,$C$5)} -> 3.4154277 | D24: -2.3296326 | E24: {=TIM_HBLAU(TIM_RANGE(C24,$C$5),TIM_RANGE(D24,$C$5))} -> 6.1657457 | F24: {=TIM_NOISE($C$6,$C$5)} -> 9.1664863 | G24: {=_xlfn.ANCHORARRAY(E24)+F24:F273} -> 15.332232 | H24: {=TIM_ENCODE9(C24,D24)} -> 1 | I24: 3.4154277 | J24: -2.3296326 | K24: 11.665147 | L24: -7.9566917 | M24: 5.4271879 | N24: 39.841466 | O24: -27.175506 | P24: 18.536168 | Q24: =SUM(AA24,AK24,AU24,BE24,BO24,BY24,CI24,CS24,DC24) -> 8000000 | R24: {=TIM_RLS9(A24,_xlfn.ANCHORARRAY(R23),_xlfn.ANCHORARRAY(H24),G24)} -> 0.0052572976 | S24: 0.01795592 | T24: -0.012247572 | U24: 0.061327148 | V24: -0.041830696 | W24: 0.028532342 | X24: 0.20945844 | Y24: -0.14286972 | Z24: 0.097450153 | AA24: 999657.11 | AB24: -1171.1224 | AC24: 798.81206 | AD24: -3999.8839 | AE24: 2728.2849 | AF24: -1860.9386 | AG24: -13661.314 | AH24: 9318.2598 | AI24: -6355.9013 | AJ24: -1171.1224 | AK24: 996000.12 | AL24: 2728.2849 | AM24: -13661.314 | AN24: 9318.2598 | AO24: -6355.9013 | AP24: -46659.233 | AQ24: 31825.843 | AR24: -21708.122 | AS24: 798.81206 | AT24: 2728.2849 | AU24: 998139.06 | AV24: 9318.2598 | AW24: -6355.9013 | AX24: 4335.3031 | AY24: 31825.843 | AZ24: -21708.122 | BA24: 14806.915 | BB24: -3999.8839 | BC24: -13661.314 | BD24: 9318.2598 | BE24: 953340.77 | BF24: 31825.843 | BG24: -21708.122 | BH24: -159361.24 | BI24: 108698.87 | BJ24: -74142.521 | BK24: 2728.2849 | BL24: 9318.2598 | BM24: -6355.9013 | BN24: 31825.843 | BO24: 978291.88 | BP24: 14806.915 | BQ24: 108698.87 | BR24: -74142.521 | BS24: 50571.947 | BT24: -1860.9386 | BU24: -6355.9013 | BV24: 4335.3031 | BW24: -21708.122 | BX24: 14806.915 | BY24: 989900.34 | BZ24: -74142.521 | CA24: 50571.947 | CB24: -34494.67 | CC24: -13661.314 | CD24: -46659.233 | CE24: 31825.843 | CF24: -159361.24 | CG24: 108698.87 | CH24: -74142.521 | CI24: 455713.21 | CJ24: 371253.13 | CK24: -253228.42 | CL24: 9318.2598 | CM24: 31825.843 | CN24: -21708.122 | CO24: 108698.87 | CP24: -74142.521 | CQ24: 50571.947 | CR24: 371253.13 | CS24: 746771.58 | CT24: 172724.83 | CU24: -6355.9013 | CV24: -21708.122 | CW24: 14806.915 | CX24: -74142.521 | CY24: 50571.947 | CZ24: -34494.67 | DA24: -253228.42 | DB24: 172724.83 | DC24: 882185.95 | DD24: =ABS(G24-SUMPRODUCT(H24:P24,R23:Z23)) -> 15.332232
A25: =A24+1 -> 2 | B25: Train | C25: -3.8974354 | D25: 3.8303175 | E25: 78.567829 | F25: 10.845674 | G25: 89.413503 | H25: {=TIM_ENCODE9(C25,D25)} -> 1 | I25: -3.8974354 | J25: 3.8303175 | K25: 15.190002 | L25: -14.928415 | M25: 14.671332 | N25: -59.202053 | O25: 58.182532 | P25: -57.180569 | Q25: =SUM(AA25,AK25,AU25,BE25,BO25,BY25,CI25,CS25,DC25) -> 7000000 | R25: {=TIM_RLS9(A25,_xlfn.ANCHORARRAY(R24),_xlfn.ANCHORARRAY(H25),G25)} -> 0.090564897 | S25: 0.068717914 | T25: -0.0083148889 | U25: 1.1724238 | V25: -0.94997309 | W25: 0.79565359 | X25: 0.34961503 | Y25: 0.34721139 | Z25: -0.8124244 | AA25: 997714.04 | AB25: -2327.3411 | AC25: 709.23635 | AD25: -29307.613 | AE25: 23413.273 | AF25: -19333.853 | AG25: -16853.696 | AH25: -1844.4411 | AI25: 14368.541 | AJ25: -2327.3411 | AK25: 995312.11 | AL25: 2674.9831 | AM25: -28720.591 | AN25: 21626.791 | AO25: -16753.099 | AP25: -48558.848 | AQ25: 25183.516 | AR25: -9376.1137 | AS25: 709.23635 | AT25: 2674.9831 | AU25: 998134.93 | AV25: 8151.5728 | AW25: -5402.3227 | AX25: 3529.8013 | AY25: 31678.674 | AZ25: -22222.722 | BA25: 15762.312 | BB25: -29307.613 | BC25: -28720.591 | BD25: 8151.5728 | BE25: 623717.93 | BF25: 301239.37 | BG25: -249285.7 | BH25: -200940.71 | BI25: -36690.757 | BJ25: 195784.88 | BK25: 23413.273 | BL25: 21626.791 | BM25: -5402.3227 | BN25: 301239.37 | BO25: 758089.75 | BP25: 200814.89 | BQ25: 142683.38 | BR25: 44690.058 | BS25: -170050.18 | BT25: -19333.853 | BU25: -16753.099 | BV25: 3529.8013 | BW25: -249285.7 | BX25: 200814.89 | BY25: 832776.66 | BZ25: -102849.74 | CA25: -49807.681 | CB25: 151868.09 | CC25: -16853.696 | CD25: -48558.848 | CE25: 31678.674 | CF25: -200940.71 | CG25: 142683.38 | CH25: -102849.74 | CI25: 450468.27 | CJ25: 352913.31 | CK25: -219179.09 | CL25: -1844.4411 | CM25: 25183.516 | CN25: -22222.722 | CO25: -36690.757 | CP25: 44690.058 | CQ25: -49807.681 | CR25: 352913.31 | CS25: 682643.31 | CT25: 291784.07 | CU25: 14368.541 | CV25: -9376.1137 | CW25: 15762.312 | CX25: 195784.88 | CY25: -170050.18 | CZ25: 151868.09 | DA25: -219179.09 | DB25: 291784.07 | DC25: 661143.01 | DD25: =ABS(G25-SUMPRODUCT(H25:P25,R24:Z24)) -> 113.83565
A26: =A25+1 -> 3 | B26: Train | C26: -1.5146012 | D26: 1.7908968 | E26: 75.985749 | F26: -27.028222 | G26: 48.957527 | H26: {=TIM_ENCODE9(C26,D26)} -> 1 | I26: -1.5146012 | J26: 1.7908968 | K26: 2.2940167 | L26: -2.7124943 | M26: 3.2073112 | N26: -3.4745203 | O26: 4.108347 | P26: -4.8577973 | Q26: =SUM(AA26,AK26,AU26,BE26,BO26,BY26,CI26,CS26,DC26) -> 6000000.2 | R26: {=TIM_RLS9(A26,_xlfn.ANCHORARRAY(R25),_xlfn.ANCHORARRAY(H26),G26)} -> 4.6928823 | S26: -7.8773623 | T26: 9.016352 | U26: -2.0900872 | V26: -2.2667222 | W26: 6.5082107 | X26: -0.31941059 | Y26: -1.3054544 | Z26: 0.36805785 | AA26: 899356.23 | AB26: 167491.24 | AC26: -192160.21 | AD26: 40416.702 | AE26: 51554 | AF26: -141419 | AG26: -2555.7057 | AH26: 33475.284 | AI26: -10859.976 | AJ26: 167491.24 | AK26: 702113.72 | AL26: 335671.6 | AM26: -149102.34 | AN26: -26959.269 | AO26: 194031.66 | AP26: -73244.886 | AQ26: -35797.364 | AR26: 34181.904 | AS26: -192160.21 | AT26: 335671.6 | AU26: 619937.95 | AV26: 144873.72 | AW26: 49778.722 | AX26: -235866.5 | AY26: 59715.55 | AZ26: 47035.593 | BA26: -33708.192 | BB26: 40416.702 | BC26: -149102.34 | BD26: 144873.72 | BE26: 574291.45 | BF26: 281290.85 | BG26: -162741.44 | BH26: -211076.33 | BI26: -61728.359 | BJ26: 213668.98 | BK26: 51554 | BL26: -26959.269 | BM26: 49778.722 | BN26: 281290.85 | BO26: 750038.53 | BP26: 235744.15 | BQ26: 138592.65 | BR26: 34584.884 | BS26: -162832.16 | BT26: -141419 | BU26: 194031.66 | BV26: -235866.5 | BW26: -162741.44 | BX26: 235744.15 | BY26: 681240.32 | BZ26: -85102.575 | CA26: -5967.6051 | CB26: 120553.57 | CC26: -2555.7057 | CD26: -73244.886 | CE26: 59715.55 | CF26: -211076.33 | CG26: 138592.65 | CH26: -85102.575 | CI26: 448389.81 | CJ26: 347778.98 | CK26: -215511.69 | CL26: 33475.284 | CM26: -35797.364 | CN26: 47035.593 | CO26: -61728.359 | CP26: 34584.884 | CQ26: -5967.6051 | CR26: 347778.98 | CS26: 669960.2 | CT26: 300843.48 | CU26: -10859.976 | CV26: 34181.904 | CW26: -33708.192 | CX26: 213668.98 | CY26: -162832.16 | CZ26: 120553.57 | DA26: -215511.69 | DB26: 300843.48 | DC26: 654671.96 | DD26: =ABS(G26-SUMPRODUCT(H26:P26,R25:Z25)) -> 37.009355
A27: =A26+1 -> 4 | B27: Train | C27: 3.6978209 | D27: -3.681374 | E27: 106.08442 | F27: 23.740854 | G27: 129.82527 | H27: {=TIM_ENCODE9(C27,D27)} -> 1 | I27: 3.6978209 | J27: -3.681374 | K27: 13.67388 | L27: -13.613062 | M27: 13.552514 | N27: 50.563559 | O27: -50.338665 | P27: 50.114771 | Q27: =SUM(AA27,AK27,AU27,BE27,BO27,BY27,CI27,CS27,DC27) -> 5000000.2 | R27: {=TIM_RLS9(A27,_xlfn.ANCHORARRAY(R26),_xlfn.ANCHORARRAY(H27),G27)} -> 4.5596974 | S27: -7.7381697 | T27: 8.764066 | U27: -1.8528069 | V27: -2.6480641 | W27: 6.9493693 | X27: -1.049766 | Y27: -1.4709251 | Z27: 1.2029311 | AA27: 889248.52 | AB27: 178054.9 | AC27: -211306.79 | AD27: 58424.457 | AE27: 22613.08 | AF27: -107938.44 | AG27: -57984.08 | AH27: 20917.329 | AI27: 52500.497 | AJ27: 178054.9 | AK27: 691073.55 | AL27: 355681.85 | AM27: -167922.4 | AN27: 3287.1409 | AO27: 159040.83 | AP27: -15316.204 | AQ27: -22672.936 | AR27: -32036.685 | AS27: -211306.79 | AT27: 355681.85 | AU27: 583669.47 | AV27: 178984.99 | AW27: -5042.7474 | AX27: -172445.8 | AY27: -45279.9 | AZ27: 23247.631 | BA27: 86312.673 | BB27: 58424.457 | BC27: -167922.4 | BD27: 178984.99 | BE27: 542209.08 | BF27: 332851.6 | BG27: -222389.95 | BH27: -112325.9 | BI27: -39355.279 | BJ27: 100786.82 | BK27: 22613.08 | BL27: 3287.1409 | BM27: -5042.7474 | BN27: 332851.6 | BO27: 667173.37 | BP27: 331607.43 | BQ27: -20112.78 | BR27: -1371.7086 | BS27: 18584.865 | BT27: -107938.44 | BU27: 159040.83 | BV27: -172445.8 | BW27: -222389.95 | BX27: 331607.43 | BY27: 570340.04 | BZ27: 98497.186 | CA27: 35629.094 | CB27: -89320.302 | CC27: -57984.08 | CD27: -15316.204 | CE27: -45279.9 | CF27: -112325.9 | CG27: -20112.78 | CH27: 98497.186 | CI27: 144433.21 | CJ27: 278914.02 | CK27: 131942.74 | CL27: 20917.329 | CM27: -22672.936 | CN27: 23247.631 | CO27: -39355.279 | CP27: -1371.7086 | CQ27: 35629.094 | CR27: 278914.02 | CS27: 654358.02 | CT27: 379563.4 | CU27: 52500.497 | CV27: -32036.685 | CW27: 86312.673 | CX27: 100786.82 | CY27: 18584.865 | CZ27: -89320.302 | DA27: 131942.74 | DB27: 379563.4 | DC27: 257494.93 | DD27: =ABS(G27-SUMPRODUCT(H27:P27,R26:Z26)) -> 28.964549
A28: =A27+1 -> 5 | B28: Train | C28: -1.5008792 | D28: -4.359169 | E28: 282.06211 | F28: 4.0518962 | G28: 286.11401 | H28: {=TIM_ENCODE9(C28,D28)} -> 1 | I28: -1.5008792 | J28: -4.359169 | K28: 2.2526385 | L28: 6.5425862 | M28: 19.002354 | N28: -3.3809383 | O28: -9.8196317 | P28: -28.520239 | Q28: =SUM(AA28,AK28,AU28,BE28,BO28,BY28,CI28,CS28,DC28) -> 4000000.2 | R28: {=TIM_RLS9(A28,_xlfn.ANCHORARRAY(R27),_xlfn.ANCHORARRAY(H28),G28)} -> 4.1671921 | S28: -7.4115427 | T28: 6.788514 | U28: -2.6230388 | V28: -0.15803709 | W28: 10.291965 | X28: -2.2579343 | Y28: -5.4660941 | Z28: -1.7698823 | AA28: 886064.71 | AB28: 180704.34 | AC28: -227331.51 | AD28: 52176.708 | AE28: 42810.974 | AF28: -80824.919 | AG28: -67784.157 | AH28: -11489.549 | AI28: 28386.473 | AJ28: 180704.34 | AK28: 688868.79 | AL28: 369016.97 | AM28: -162723.28 | AN28: -13520.724 | AO28: 136478.06 | AP28: -7160.9797 | AQ28: 4294.7483 | AR28: -11969.977 | AS28: -227331.51 | AT28: 369016.97 | AU28: 503014.09 | AV28: 147538.92 | AW28: 96616.984 | AX28: -35978.447 | AY28: -94605.495 | AZ28: -139862.17 | BA28: -35057.661 | BB28: 52176.708 | BC28: -162723.28 | BD28: 147538.92 | BE28: 529948.82 | BF28: 372486.89 | BG28: -169183.8 | BH28: -131557.05 | BI28: -102948.84 | BJ28: 53466.728 | BK28: 42810.974 | BL28: -13520.724 | BM28: 96616.984 | BN28: 372486.89 | BO28: 539039.32 | BP28: 159601.12 | BQ28: 42058.231 | BR28: 204215.3 | BS28: 171562.57 | BT28: -80824.919 | BU28: 136478.06 | BV28: -35978.447 | BW28: -169183.8 | BX28: 159601.12 | BY28: 339439.91 | BZ28: 181955.14 | CA28: 311607.73 | CB28: 116035.96 | CC28: -67784.157 | CD28: -7160.9797 | CE28: -94605.495 | CF28: -131557.05 | CG28: 42058.231 | CH28: 181955.14 | CI28: 114267.65 | CJ28: 179162.61 | CK28: 57717.518 | CL28: -11489.549 | CM28: 4294.7483 | CN28: -139862.17 | CO28: -102948.84 | CP28: 204215.3 | CQ28: 311607.73 | CR28: 179162.61 | CS28: 324500.22 | CT28: 134115.54 | CU28: 28386.473 | CV28: -11969.977 | CW28: -35057.661 | CX28: 53466.728 | CY28: 171562.57 | CZ28: 116035.96 | DA28: 57717.518 | DB28: 134115.54 | DC28: 74856.676 | DD28: =ABS(G28-SUMPRODUCT(H28:P28,R27:Z27)) -> 213.90356
A29: =A28+1 -> 6 | B29: Train | C29: -1.6081002 | D29: 0.058695694 | E29: 143.85143 | F29: -13.043331 | G29: 130.8081 | H29: {=TIM_ENCODE9(C29,D29)} -> 1 | I29: -1.6081002 | J29: 0.058695694 | K29: 2.5859864 | L29: -0.09438856 | M29: 0.0034451845 | N29: -4.1585254 | O29: 0.15178627 | P29: -0.005540202 | Q29: =SUM(AA29,AK29,AU29,BE29,BO29,BY29,CI29,CS29,DC29) -> 3000000.3 | R29: {=TIM_RLS9(A29,_xlfn.ANCHORARRAY(R28),_xlfn.ANCHORARRAY(H29),G29)} -> 13.439527 | S29: -19.497577 | T29: 6.3537361 | U29: 17.817072 | V29: 7.6718454 | W29: -3.3805875 | X29: -10.231581 | Y29: -14.877149 | Z29: -2.2558546 | AA29: 804234.41 | AB29: 287366.11 | AC29: -223494.5 | AD29: -128211.55 | AE29: -26289.377 | AF29: 39838.219 | AG29: 2584.9403 | AH29: 71564.976 | AI29: 32675.281 | AJ29: 287366.11 | AK29: 549840.39 | AL29: 364015.62 | AM29: 72403.977 | AN29: 76548.197 | AO29: -20800.422 | AP29: -98883.649 | AQ29: -103962.75 | AR29: -17560.227 | AS29: -223494.5 | AT29: 364015.62 | AU29: 502834.17 | AV29: 155997.29 | AW29: 99857.086 | AX29: -41636.318 | AY29: -97905.088 | AZ29: -143756.58 | BA29: -35258.763 | BB29: -128211.55 | BC29: 72403.977 | BD29: 155997.29 | BE29: 132297.51 | BF29: 220160.76 | BG29: 96808.32 | BH29: 23565.924 | BI29: 80138.137 | BJ29: 62921.057 | BK29: -26289.377 | BL29: 76548.197 | BM29: 99857.086 | BN29: 220160.76 | BO29: 480688.58 | BP29: 261493.28 | BQ29: 101480.35 | BR29: 274349.43 | BS29: 175184.19 | BT29: 39838.219 | BU29: -20800.422 | BV29: -41636.318 | BW29: 96808.32 | BX29: 261493.28 | BY29: 161515.67 | BZ29: 78192.151 | CA29: 189139.4 | CB29: 109711.89 | CC29: 2584.9403 | CD29: -98883.649 | CE29: -97905.088 | CF29: 23565.924 | CG29: 101480.35 | CH29: 78192.151 | CI29: 53754.492 | CJ29: 107740.75 | CK29: 54029.403 | CL29: 71564.976 | CM29: -103962.75 | CN29: -143756.58 | CO29: 80138.137 | CP29: 274349.43 | CQ29: 189139.4 | CR29: 107740.75 | CS29: 240203.15 | CT29: 129762.57 | CU29: 32675.281 | CV29: -17560.227 | CW29: -35258.763 | CX29: 62921.057 | CY29: 175184.19 | CZ29: 109711.89 | DA29: 54029.403 | DB29: 129762.57 | DC29: 74631.896 | DD29: =ABS(G29-SUMPRODUCT(H29:P29,R28:Z28)) -> 112.48691
A30: =A29+1 -> 7 | B30: Train | C30: 4.0965061 | D30: -0.97736454 | E30: 26.874079 | F30: 11.981482 | G30: 38.855561 | H30: {=TIM_ENCODE9(C30,D30)} -> 1 | I30: 4.0965061 | J30: -0.97736454 | K30: 16.781362 | L30: -4.0037798 | M30: 0.95524144 | N30: 68.744951 | O30: -16.401508 | P30: 3.9131523 | Q30: =SUM(AA30,AK30,AU30,BE30,BO30,BY30,CI30,CS30,DC30) -> 2000000.5 | R30: {=TIM_RLS9(A30,_xlfn.ANCHORARRAY(R29),_xlfn.ANCHORARRAY(H30),G30)} -> 10.725258 | S30: -27.876426 | T30: 0.11112346 | U30: 25.836111 | V30: 29.220705 | W30: 10.37817 | X30: -2.6225873 | Y30: 1.923583 | Z30: 7.1013427 | AA30: 798397.68 | AB30: 269348.34 | AC30: -236918.54 | AD30: -110967.51 | AE30: 20049.024 | AF30: 69424.882 | AG30: 18947.225 | AH30: 107693.06 | AI30: 52796.882 | AJ30: 269348.34 | AK30: 494220.17 | AL30: 322576.11 | AM30: 125635.71 | AN30: 219593.16 | AO30: 70532.533 | AP30: -48373.869 | AQ30: 7563.3343 | AR30: 44554.426 | AS30: -236918.54 | AT30: 322576.11 | AU30: 471959.91 | AV30: 195657.27 | AW30: 206431.89 | AX30: 26410.763 | AY30: -60273.073 | AZ30: -60664.725 | BA30: 11019.394 | BB30: -110967.51 | BC30: 125635.71 | BD30: 195657.27 | BE30: 81351.703 | BF30: 83258.546 | BG30: 9397.4559 | BH30: -24774.825 | BI30: -26598.711 | BJ30: 3473.7796 | BK30: 20049.024 | BL30: 219593.16 | BM30: 206431.89 | BN30: 83258.546 | BO30: 112803.25 | BP30: 26601.727 | BQ30: -28421.513 | BR30: -12475.15 | BS30: 15436.732 | BT30: 69424.882 | BU30: 70532.533 | BV30: 26410.763 | BW30: 9397.4559 | BX30: 26601.727 | BY30: 11539.472 | BZ30: -4749.0478 | CA30: 6004.4217 | CB30: 7714.5352 | CC30: 18947.225 | CD30: -48373.869 | CE30: -60273.073 | CF30: -24774.825 | CG30: -28421.513 | CH30: -4749.0478 | CI30: 7885.5969 | CJ30: 6461.7784 | CK30: -2378.0985 | CL30: 107693.06 | CM30: 7563.3343 | CN30: -60664.725 | CO30: -26598.711 | CP30: -12475.15 | CQ30: 6004.4217 | CR30: 6461.7784 | CS30: 16578.197 | CT30: 5214.2503 | CU30: 52796.882 | CV30: 44554.426 | CW30: 11019.394 | CX30: 3473.7796 | CY30: 15436.732 | CZ30: 7714.5352 | DA30: -2378.0985 | DB30: 5214.2503 | DC30: 5264.4901 | DD30: =ABS(G30-SUMPRODUCT(H30:P30,R29:Z29)) -> 314.63814
A31: =A30+1 -> 8 | B31: Train | C31: 3.1762191 | D31: -2.3458965 | E31: 13.432043 | F31: -0.49604644 | G31: 12.935997 | H31: {=TIM_ENCODE9(C31,D31)} -> 1 | I31: 3.1762191 | J31: -2.3458965 | K31: 10.088368 | L31: -7.4510811 | M31: 5.5032302 | N31: 32.042866 | O31: -23.666266 | P31: 17.479465 | Q31: =SUM(AA31,AK31,AU31,BE31,BO31,BY31,CI31,CS31,DC31) -> 1000014.1 | R31: {=TIM_RLS9(A31,_xlfn.ANCHORARRAY(R30),_xlfn.ANCHORARRAY(H31),G31)} -> 1.7683813 | S31: -32.338499 | T31: 1.3316756 | U31: 26.498679 | V31: 28.235775 | W31: 9.4310926 | X31: -2.6395784 | Y31: 0.81815483 | Z31: 6.4135412 | AA31: 38888.684 | AB31: -109018.45 | AC31: -133420.37 | AD31: -54784.267 | AE31: -63469.25 | AF31: -10883.708 | AG31: 17506.445 | AH31: 13956.967 | AI31: -5526.0615 | AJ31: -109018.45 | AK31: 305728.1 | AL31: 374136.09 | AM31: 153624.67 | AN31: 177986.62 | AO31: 30524.97 | AP31: -49091.627 | AQ31: -39133.447 | AR31: 15499.517 | AS31: -133420.37 | AT31: 374136.09 | AU31: 457856.23 | AV31: 188001.19 | AW31: 217812.92 | AX31: 37354.401 | AY31: -60076.739 | AZ31: -47891.323 | BA31: 18967.052 | BB31: -54784.267 | BC31: 153624.67 | BD31: 188001.19 | BE31: 77195.654 | BF31: 89436.652 | BG31: 15338.132 | BH31: -24668.246 | BI31: -19664.761 | BJ31: 7788.1091 | BK31: -63469.25 | BL31: 177986.62 | BM31: 217812.92 | BN31: 89436.652 | BO31: 103619.29 | BP31: 17770.713 | BQ31: -28579.946 | BR31: -22782.7 | BS31: 9023.3369 | BT31: -10883.708 | BU31: 30524.97 | BV31: 37354.401 | BW31: 15338.132 | BX31: 17770.713 | BY31: 3047.8414 | BZ31: -4901.3924 | CA31: -3906.9996 | CB31: 1547.6124 | CC31: 17506.445 | CD31: -49091.627 | CE31: -60076.739 | CF31: -24668.246 | CG31: -28579.946 | CH31: -4901.3924 | CI31: 7882.8638 | CJ31: 6283.9621 | CK31: -2488.7365 | CL31: 13956.967 | CM31: -39133.447 | CN31: -47891.323 | CO31: -19664.761 | CP31: -22782.7 | CQ31: -3906.9996 | CR31: 6283.9621 | CS31: 5009.5973 | CT31: -1983.775 | CU31: -5526.0615 | CV31: 15499.517 | CW31: 18967.052 | CX31: 7788.1091 | CY31: 9023.3369 | CZ31: 1547.6124 | DA31: -2488.7365 | DB31: -1983.775 | DC31: 785.85229 | DD31: =ABS(G31-SUMPRODUCT(H31:P31,R30:Z30)) -> 3.5871723
A32: =A31+1 -> 9 | B32: Train | C32: -0.96786177 | D32: -4.0452365 | E32: 269.54332 | F32: -10.828793 | G32: 258.71452 | H32: {=TIM_ENCODE9(C32,D32)} -> 1 | I32: -0.96786177 | J32: -4.0452365 | K32: 0.93675641 | L32: 3.9152298 | M32: 16.363939 | N32: -0.90665072 | O32: -3.7894012 | P32: -15.838031 | Q32: =SUM(AA32,AK32,AU32,BE32,BO32,BY32,CI32,CS32,DC32) -> 40.553263 | R32: {=TIM_RLS9(A32,_xlfn.ANCHORARRAY(R31),_xlfn.ANCHORARRAY(H32),G32)} -> 9.3071636 | S32: -53.476989 | T32: -24.537328 | U32: 15.876548 | V32: 15.929398 | W32: 7.3206449 | X32: 0.75477213 | Y32: 3.5241042 | Z32: 5.3419546 | AA32: 5.3689915 | AB32: 9.0418943 | AC32: 6.0339221 | AD32: 2.2556512 | AE32: 4.2267326 | AF32: 1.4981897 | AG32: -0.83872007 | AH32: 0.29929341 | AI32: 0.93701024 | AJ32: 9.0418941 | AK32: 18.69726 | AL32: 12.98051 | AM32: 5.1240311 | AN32: 9.1440515 | AO32: 3.2213202 | AP32: -1.7969701 | AQ32: 0.57564375 | AR32: 2.0004593 | AS32: 6.033922 | AT32: 12.98051 | AU32: 9.3263143 | AV32: 3.6227501 | AW32: 6.4395582 | AX32: 2.2896173 | AY32: -1.2557242 | AZ32: 0.37553826 | BA32: 1.3969611 | BB32: 2.2556511 | BC32: 5.1240311 | BD32: 3.6227501 | BE32: 1.5386049 | BF32: 2.6337079 | BG32: 0.89544358 | BH32: -0.51399667 | BI32: 0.1595723 | BJ32: 0.57785814 | BK32: 4.2267325 | BL32: 9.1440514 | BM32: 6.4395582 | BN32: 2.6337079 | BO32: 4.6098967 | BP32: 1.6028419 | BQ32: -0.89656988 | BR32: 0.29119015 | BS32: 1.0142271 | BT32: 1.4981897 | BU32: 3.2213202 | BV32: 2.2896173 | BW32: 0.89544358 | BX32: 1.6028419 | BY32: 0.57767373 | BZ32: -0.30830978 | CA32: 0.1057087 | CB32: 0.35440142 | CC32: -0.83872006 | CD32: -1.7969701 | CE32: -1.2557242 | CF32: -0.51399668 | CG32: -0.89656988 | CH32: -0.30830979 | CI32: 0.17718444 | CJ32: -0.05312673 | CK32: -0.19534483 | CL32: 0.29929341 | CM32: 0.57564375 | CN32: 0.37553826 | CO32: 0.1595723 | CP32: 0.29119016 | CQ32: 0.1057087 | CR32: -0.05312673 | CS32: 0.030249151 | CT32: 0.070329329 | CU32: 0.93701022 | CV32: 2.0004593 | CW32: 1.3969611 | CX32: 0.57785814 | CY32: 1.0142271 | CZ32: 0.35440142 | DA32: -0.19534483 | DB32: 0.070329328 | DC32: 0.22708778 | DD32: =ABS(G32-SUMPRODUCT(H32:P32,R31:Z31)) -> 43.616715
A33: =A32+1 -> 10 | B33: Train | C33: -3.0381774 | D33: 4.6260685 | E33: 137.2627 | F33: -4.0481142 | G33: 133.21459 | H33: {=TIM_ENCODE9(C33,D33)} -> 1 | I33: -3.0381774 | J33: 4.6260685 | K33: 9.2305221 | L33: -14.054817 | M33: 21.40051 | N33: -28.043964 | O33: 42.701028 | P33: -65.018545 | Q33: =SUM(AA33,AK33,AU33,BE33,BO33,BY33,CI33,CS33,DC33) -> 6.1857958 | R33: {=TIM_RLS9(A33,_xlfn.ANCHORARRAY(R32),_xlfn.ANCHORARRAY(H33),G33)} -> -19.972804 | S33: -117.14865 | T33: -68.346001 | U33: -3.2484574 | V33: -16.790596 | W33: -3.6351295 | X33: 7.1507732 | Y33: 1.3732274 | Z33: -1.937511 | AA33: 1.8967453 | AB33: 1.4912142 | AC33: 0.83874903 | AD33: -0.012340658 | AE33: 0.34654113 | AF33: 0.19896879 | AG33: -0.080232532 | AH33: 0.044225728 | AI33: 0.073754599 | AJ33: 1.4912142 | AK33: 2.277696 | AL33: 1.6831866 | AM33: 0.19209959 | AN33: 0.70626162 | AO33: 0.39605931 | AP33: -0.14757767 | AQ33: 0.020978454 | AR33: 0.12324014 | AS33: 0.83874898 | AT33: 1.6831866 | AU33: 1.5532991 | AV33: 0.22938191 | AW33: 0.63401779 | AX33: 0.34572361 | AY33: -0.1208755 | AZ33: -0.0060938781 | BA33: 0.10535847 | BB33: -0.012340679 | BC33: 0.19209957 | BD33: 0.22938191 | BE33: 0.05720449 | BF33: 0.09925556 | BG33: 0.046822184 | BH33: -0.018569959 | BI33: -0.0070320827 | BJ33: 0.013999295 | BK33: 0.3465411 | BL33: 0.70626161 | BM33: 0.63401779 | BN33: 0.099255562 | BO33: 0.27383167 | BP33: 0.15097885 | BQ33: -0.048969607 | BR33: 0.0061552298 | BS33: 0.04954978 | BT33: 0.19896878 | BU33: 0.3960593 | BV33: 0.34572361 | BW33: 0.046822184 | BX33: 0.15097885 | BY33: 0.091540291 | BZ33: -0.024504198 | CA33: 0.010269247 | CB33: 0.031394433 | CC33: -0.080232527 | CD33: -0.14757767 | CE33: -0.12087551 | CF33: -0.01856996 | CG33: -0.048969608 | CH33: -0.024504199 | CI33: 0.011498219 | CJ33: 0.0025909946 | CK33: -0.0067727634 | CL33: 0.044225724 | CM33: 0.020978452 | CN33: -0.006093878 | CO33: -0.0070320825 | CP33: 0.0061552299 | CQ33: 0.010269247 | CR33: 0.0025909947 | CS33: 0.011512137 | CT33: 0.0069154453 | CU33: 0.073754592 | CV33: 0.12324013 | CW33: 0.10535847 | CX33: 0.013999295 | CY33: 0.049549779 | CZ33: 0.031394434 | DA33: -0.006772763 | DB33: 0.0069154452 | DC33: 0.012468699 | DD33: =ABS(G33-SUMPRODUCT(H33:P33,R32:Z32)) -> 213.62667
A34: =A33+1 -> 11 | B34: Train | C34: -4.3431383 | D34: -3.8046378 | E34: 26.279327 | F34: 27.308823 | G34: 53.58815 | H34: {=TIM_ENCODE9(C34,D34)} -> 1 | I34: -4.3431383 | J34: -3.8046378 | K34: 18.86285 | L34: 16.524068 | M34: 14.475269 | N34: -81.923965 | O34: -71.766312 | P34: -62.868094 | Q34: =SUM(AA34,AK34,AU34,BE34,BO34,BY34,CI34,CS34,DC34) -> 5.2600818 | R34: {=TIM_RLS9(A34,_xlfn.ANCHORARRAY(R33),_xlfn.ANCHORARRAY(H34),G34)} -> -20.621169 | S34: -107.90063 | T34: -56.970269 | U34: -0.36599948 | V34: -12.804553 | W34: -2.4474875 | X34: 5.9300772 | Y34: -0.034807572 | Z34: -1.9889644 | AA34: 1.8951533 | AB34: 1.5139223 | AC34: 0.86668155 | AD34: -0.0052629315 | AE34: 0.35632865 | AF34: 0.20188499 | AG34: -0.083229888 | AH34: 0.040768371 | AI34: 0.073628258 | AJ34: 1.5139222 | AK34: 1.9537979 | AL34: 1.2847686 | AM34: 0.091145787 | AN34: 0.56665639 | AO34: 0.35446391 | AP34: -0.10482461 | AQ34: 0.070292785 | AR34: 0.12504221 | AS34: 0.86668152 | AT34: 1.2847685 | AU34: 1.0632161 | AV34: 0.10520145 | AW34: 0.46229328 | AX34: 0.29455828 | AY34: -0.068286155 | AZ34: 0.054566308 | BA34: 0.10757515 | BB34: -0.0052629477 | BC34: 0.091145776 | BD34: 0.10520145 | BE34: 0.025738825 | BF34: 0.055742871 | BG34: 0.033857574 | BH34: -0.005244522 | BI34: 0.0083383958 | BJ34: 0.014560973 | BK34: 0.35632863 | BL34: 0.56665638 | BM34: 0.46229328 | BN34: 0.055742872 | BO34: 0.2136596 | BP34: 0.13305057 | BQ34: -0.030542359 | BR34: 0.027410489 | BS34: 0.050326503 | BT34: 0.20188497 | BU34: 0.35446391 | BV34: 0.29455828 | BW34: 0.033857573 | BX34: 0.13305057 | BY34: 0.08619856 | BZ34: -0.019013798 | CA34: 0.016602254 | CB34: 0.031625858 | CC34: -0.083229885 | CD34: -0.10482461 | CE34: -0.068286156 | CF34: -0.0052445227 | CG34: -0.03054236 | CH34: -0.019013798 | CI34: 0.0058550115 | CJ34: -0.0039182701 | CK34: -0.0070106291 | CL34: 0.040768365 | CM34: 0.070292782 | CN34: 0.054566308 | CO34: 0.0083383963 | CP34: 0.02741049 | CQ34: 0.016602254 | CR34: -0.00391827 | CS34: 0.0040039022 | CT34: 0.0066410745 | CU34: 0.073628251 | CV34: 0.12504221 | CW34: 0.10757515 | CX34: 0.014560973 | CY34: 0.050326503 | CZ34: 0.031625858 | DA34: -0.0070106288 | DB34: 0.0066410744 | DC34: 0.012458673 | DD34: =ABS(G34-SUMPRODUCT(H34:P34,R33:Z33)) -> 258.64354
A35: =A34+1 -> 12 | B35: Train | C35: -4.6949513 | D35: 1.5831254 | E35: 243.83969 | F35: 8.5528911 | G35: 252.39259 | H35: {=TIM_ENCODE9(C35,D35)} -> 1 | I35: -4.6949513 | J35: 1.5831254 | K35: 22.042568 | L35: -7.4326967 | M35: 2.5062861 | N35: -103.48878 | O35: 34.896149 | P35: -11.766891 | Q35: =SUM(AA35,AK35,AU35,BE35,BO35,BY35,CI35,CS35,DC35) -> 3.0557553 | R35: {=TIM_RLS9(A35,_xlfn.ANCHORARRAY(R34),_xlfn.ANCHORARRAY(H35),G35)} -> 25.418185 | S35: -34.575929 | T35: 0.6690433 | U35: 9.134601 | V35: 16.088637 | W35: 14.830907 | X35: 1.4978988 | Y35: 4.2516365 | Z35: 5.4134514 | AA35: 1.5101188 | AB35: 0.90069602 | AC35: 0.38463468 | AD35: -0.08471799 | AE35: 0.11469024 | AF35: 0.057382978 | AG35: -0.046162867 | AH35: 0.0049201473 | AI35: 0.01172066 | AJ35: 0.90069606 | AK35: 0.97714152 | AL35: 0.51703536 | AM35: -0.035398519 | AN35: 0.18181035 | AO35: 0.12432242 | AP35: -0.045789725 | AQ35: 0.013199019 | AR35: 0.026444915 | AS35: 0.38463474 | AT35: 0.51703538 | AU35: 0.45971392 | AV35: 0.0057270964 | AW35: 0.15977227 | AX35: 0.11364791 | AY35: -0.021879822 | AZ35: 0.0096858574 | BA35: 0.030069471 | BB35: -0.084717987 | BC35: -0.035398515 | BD35: 0.0057271011 | BE35: 0.0093426183 | BF35: 0.0058787915 | BG35: 0.0040383925 | BH35: 0.0024045634 | BI35: 0.0009408193 | BJ35: 0.0017858293 | BK35: 0.11469026 | BL35: 0.18181036 | BM35: 0.15977227 | BN35: 0.0058787899 | BO35: 0.062013153 | BP35: 0.042364593 | BQ35: -0.0072799894 | BR35: 0.0049130073 | BS35: 0.011474785 | BT35: 0.057382996 | BU35: 0.12432243 | BV35: 0.11364791 | BW35: 0.0040383912 | BX35: 0.042364594 | BY35: 0.031967504 | BZ35: -0.0051026854 | CA35: 0.0031485514 | CB35: 0.0083921715 | CC35: -0.046162869 | CD35: -0.045789725 | CE35: -0.02187982 | CF35: 0.0024045636 | CG35: -0.0072799888 | CH35: -0.0051026849 | CI35: 0.0022865938 | CJ35: -0.00046718522 | CK35: -0.0010508253 | CL35: 0.0049201478 | CM35: 0.013199019 | CN35: 0.0096858576 | CO35: 0.00094081928 | CP35: 0.0049130073 | CQ35: 0.0031485514 | CR35: -0.00046718523 | CS35: 0.00066629225 | CT35: 0.0008772348 | CU35: 0.011720666 | CV35: 0.026444919 | CW35: 0.030069472 | CX35: 0.0017858289 | CY35: 0.011474785 | CZ35: 0.0083921716 | DA35: -0.0010508255 | DB35: 0.00087723479 | DC35: 0.0025048889 | DD35: =ABS(G35-SUMPRODUCT(H35:P35,R34:Z34)) -> 367.15315
A36: =A35+1 -> 13 | B36: Train | C36: -3.9844046 | D36: 2.9416404 | E36: 66.541662 | F36: 13.898782 | G36: 80.440445 | H36: {=TIM_ENCODE9(C36,D36)} -> 1 | I36: -3.9844046 | J36: 2.9416404 | K36: 15.87548 | L36: -11.720686 | M36: 8.6532482 | N36: -63.254336 | O36: 46.699953 | P36: -34.478042 | Q36: =SUM(AA36,AK36,AU36,BE36,BO36,BY36,CI36,CS36,DC36) -> 2.7330368 | R36: {=TIM_RLS9(A36,_xlfn.ANCHORARRAY(R35),_xlfn.ANCHORARRAY(H36),G36)} -> 46.743624 | S36: -8.1827686 | T36: 18.082962 | U36: 8.1716736 | V36: 22.167042 | W36: 19.105702 | X36: 0.35945391 | Y36: 4.4766395 | Z36: 6.3680386 | AA36: 1.4131183 | AB36: 0.78064456 | AC36: 0.30542605 | AD36: -0.080338034 | AE36: 0.08704212 | AF36: 0.037938726 | AG36: -0.040984557 | AH36: 0.0038967029 | AI36: 0.0073786428 | AJ36: 0.78064458 | AK36: 0.82856135 | AL36: 0.41900379 | AM36: -0.029977722 | AN36: 0.147592 | AO36: 0.10025748 | AP36: -0.039380855 | AQ36: 0.011932365 | AR36: 0.021071072 | AS36: 0.30542608 | AT36: 0.41900381 | AU36: 0.39503376 | AV36: 0.0093036794 | AW36: 0.13719538 | AX36: 0.097770132 | AY36: -0.017651319 | AZ36: 0.0088501336 | BA36: 0.026523868 | BB36: -0.080338031 | BC36: -0.029977719 | BD36: 0.0093036822 | BE36: 0.009144846 | BF36: 0.0071272128 | BG36: 0.0049163769 | BH36: 0.0021707423 | BI36: 0.00098703183 | BJ36: 0.0019818885 | BK36: 0.087042133 | BL36: 0.14759201 | BM36: 0.13719538 | BN36: 0.0071272119 | BO36: 0.054132591 | BP36: 0.036822385 | BQ36: -0.0058040121 | BR36: 0.0046212942 | BS36: 0.010237177 | BT36: 0.037938737 | BU36: 0.10025749 | BV36: 0.097770133 | BW36: 0.0049163762 | BX36: 0.036822385 | BY36: 0.028069803 | BZ36: -0.0040646663 | CA36: 0.0029433966 | CB36: 0.0075217916 | CC36: -0.040984558 | CD36: -0.039380855 | CE36: -0.017651318 | CF36: 0.0021707425 | CG36: -0.0058040117 | CH36: -0.004064666 | CI36: 0.002010153 | CJ36: -0.0004125493 | CK36: -0.00081902948 | CL36: 0.003896703 | CM36: 0.011932366 | CN36: 0.0088501337 | CO36: 0.00098703184 | CP36: 0.0046212943 | CQ36: 0.0029433967 | CR36: -0.0004125493 | CS36: 0.00065549397 | CT36: 0.00083142252 | CU36: 0.0073786467 | CV36: 0.021071074 | CW36: 0.026523869 | CX36: 0.0019818882 | CY36: 0.010237177 | CZ36: 0.0075217916 | DA36: -0.00081902961 | DB36: 0.00083142251 | DC36: 0.0023105279 | DD36: =ABS(G36-SUMPRODUCT(H36:P36,R35:Z35)) -> 86.64959
... A272: =A271+1 -> 249 | B272: Train | C272: 1.1274757 | D272: -4.6970303 | E272: 470.2067 | F272: -9.0179767 | G272: 461.18873 | H272: {=TIM_ENCODE9(C272,D272)} -> 1 | I272: 1.1274757 | J272: -4.6970303 | K272: 1.2712015 | L272: -5.2957876 | M272: 22.062094 | N272: 1.4332488 | O272: -5.9708718 | P272: 24.874475 | Q272: =SUM(AA272,AK272,AU272,BE272,BO272,BY272,CI272,CS272,DC272) -> 0.019141523 | R272: {=TIM_RLS9(A272,_xlfn.ANCHORARRAY(R271),_xlfn.ANCHORARRAY(H272),G272)} -> 65.889182 | S272: -15.643296 | T272: -20.604335 | U272: 0.35323594 | V272: -0.1634195 | W272: 8.0320162 | X272: -0.01708351 | Y272: 1.7825108 | Z272: 1.9814635 | AA272: 0.013821721 | AB272: 0.00056279018 | AC272: 7.2120647e-05 | AD272: -0.0006351867 | AE272: -6.8536003e-05 | AF272: -0.0005959905 | AG272: -2.8536686e-05 | AH272: -1.9533944e-05 | AI272: -3.3321464e-05 | AJ272: 0.00056279019 | AK272: 0.0038759986 | AL272: 9.8738112e-05 | AM272: -4.4005054e-05 | AN272: -5.415965e-05 | AO272: -4.4554995e-05 | AP272: -0.00019077066 | AQ272: -2.1890463e-05 | AR272: -7.7120253e-05 | AS272: 7.2120646e-05 | AT272: 9.8738111e-05 | AU272: 0.0011918083 | AV272: 7.2452429e-07 | AW272: -1.8970752e-05 | AX272: -3.57119e-05 | AY272: -1.3853282e-06 | AZ272: -8.4829596e-05 | BA272: -1.5385492e-05 | BB272: -0.0006351867 | BC272: -4.4005054e-05 | BD272: 7.2452414e-07 | BE272: 7.8709877e-05 | BF272: 9.6636477e-06 | BG272: 1.0339302e-06 | BH272: 2.5717956e-06 | BI272: 1.5005284e-06 | BJ272: 2.5170803e-06 | BK272: -6.8536002e-05 | BL272: -5.415965e-05 | BM272: -1.8970752e-05 | BN272: 9.6636477e-06 | BO272: 6.5823582e-05 | BP272: 3.5454809e-06 | BQ272: 3.3456151e-06 | BR272: 4.1698323e-06 | BS272: 6.8889454e-07 | BT272: -0.0005959905 | BU272: -4.4554995e-05 | BV272: -3.57119e-05 | BW272: 1.0339302e-06 | BX272: 3.545481e-06 | BY272: 7.4899583e-05 | BZ272: 2.1051622e-06 | CA272: 2.74689e-06 | CB272: 2.8263127e-06 | CC272: -2.8536686e-05 | CD272: -0.00019077066 | CE272: -1.3853282e-06 | CF272: 2.5717956e-06 | CG272: 3.3456151e-06 | CH272: 2.1051623e-06 | CI272: 1.2873065e-05 | CJ272: 9.4758134e-07 | CK272: 5.0774066e-07 | CL272: -1.9533945e-05 | CM272: -2.1890463e-05 | CN272: -8.4829596e-05 | CO272: 1.5005285e-06 | CP272: 4.1698323e-06 | CQ272: 2.74689e-06 | CR272: 9.4758134e-07 | CS272: 1.0668375e-05 | CT272: 2.2041576e-06 | CU272: -3.3321463e-05 | CV272: -7.7120253e-05 | CW272: -1.5385492e-05 | CX272: 2.5170803e-06 | CY272: 6.8889456e-07 | CZ272: 2.8263127e-06 | DA272: 5.0774065e-07 | DB272: 2.2041576e-06 | DC272: 9.0207914e-06 | DD272: =ABS(G272-SUMPRODUCT(H272:P272,R271:Z271)) -> 105.3884
A273: 250 | B273: Train | C273: 0.56835251 | D273: 0.90796485 | E273: 126.87479 | F273: -12.13843 | G273: 114.73636 | H273: {=TIM_ENCODE9(C273,D273)} -> 1 | I273: 0.56835251 | J273: 0.90796485 | K273: 0.32302458 | L273: 0.5160441 | M273: 0.82440017 | N273: 0.18359183 | O273: 0.29329496 | P273: 0.46854991 | Q273: =SUM(AA273,AK273,AU273,BE273,BO273,BY273,CI273,CS273,DC273) -> 0.018954148 | R273: {=TIM_RLS9(A273,_xlfn.ANCHORARRAY(R272),_xlfn.ANCHORARRAY(H273),G273)} -> 66.794587 | S273: -15.461597 | T273: -20.527653 | U273: 0.3110792 | V273: -0.16842635 | W273: 7.9924764 | X273: -0.025906069 | Y273: 1.7757946 | Z273: 1.9758987 | AA273: 0.013643564 | AB273: 0.00052703718 | AC273: 5.7031783e-05 | AD273: -0.0006268915 | AE273: -6.7550802e-05 | AF273: -0.00058821024 | AG273: -2.6800666e-05 | AH273: -1.8212386e-05 | AI273: -3.222648e-05 | AJ273: 0.00052703718 | AK273: 0.0038688236 | AL273: 9.5710039e-05 | AM273: -4.2340351e-05 | AN273: -5.3961938e-05 | AO273: -4.2993632e-05 | AP273: -0.00019042227 | AQ273: -2.1625249e-05 | AR273: -7.6900509e-05 | AS273: 5.7031782e-05 | AT273: 9.5710039e-05 | AU273: 0.0011905304 | AV273: 1.42708e-06 | AW273: -1.8887311e-05 | AX273: -3.5052957e-05 | AY273: -1.2382974e-06 | AZ273: -8.4717668e-05 | BA273: -1.5292753e-05 | BB273: -0.0006268915 | BC273: -4.2340351e-05 | BD273: 1.4270798e-06 | BE273: 7.8323643e-05 | BF273: 9.6177756e-06 | BG273: 6.7167199e-07 | BH273: 2.4909645e-06 | BI273: 1.4389951e-06 | BJ273: 2.4660965e-06 | BK273: -6.7550802e-05 | BL273: -5.3961938e-05 | BM273: -1.8887311e-05 | BN273: 9.6177756e-06 | BO273: 6.5818133e-05 | BP273: 3.5024564e-06 | BQ273: 3.336015e-06 | BR273: 4.1625241e-06 | BS273: 6.8283932e-07 | BT273: -0.00058821024 | BU273: -4.2993632e-05 | BV273: -3.5052957e-05 | BW273: 6.7167197e-07 | BX273: 3.5024565e-06 | BY273: 7.4559812e-05 | BZ273: 2.0293489e-06 | CA273: 2.6891765e-06 | CB273: 2.7784939e-06 | CC273: -2.6800667e-05 | CD273: -0.00019042227 | CE273: -1.2382975e-06 | CF273: 2.4909645e-06 | CG273: 3.336015e-06 | CH273: 2.0293489e-06 | CI273: 1.2856149e-05 | CJ273: 9.3470364e-07 | CK273: 4.9707078e-07 | CL273: -1.8212387e-05 | CM273: -2.162525e-05 | CN273: -8.4717668e-05 | CO273: 1.4389951e-06 | CP273: 4.1625241e-06 | CQ273: 2.6891765e-06 | CR273: 9.3470365e-07 | CS273: 1.0658572e-05 | CT273: 2.1960351e-06 | CU273: -3.222648e-05 | CV273: -7.6900508e-05 | CW273: -1.5292753e-05 | CX273: 2.4660965e-06 | CY273: 6.8283935e-07 | CZ273: 2.7784939e-06 | DA273: 4.9707077e-07 | DB273: 2.1960351e-06 | DC273: 9.0140615e-06 | DD273: =ABS(G273-SUMPRODUCT(H273:P273,R272:Z272)) -> 68.346649

Sheet INFERENCE
B1: TIM INFERENCE — GOAL-DIRECTED ROUTE GENERATION
B6: PROMPT
B7: ROUTE PROMPT | C7: X | D7: Y
B8: START | C8: -3 | D8: 3
B9: END | C9: 4 | D9: 4
B10: DOMAIN RESOLUTION | C10: FALSE | D10: =IF(C10,"HI_RES","LOW_RES") -> LOW_RES
B12: DOMAIN CHARACTERIZATION CONTROL
C14: Use Check-Box to select Weight Souce
B15: Weight source | C15: FALSE | D15: =IF(C15,"Use Book Weights","Use Generated Weights") -> Use Generated Weights
B17: Switch between the weights learned in this workbook and the frozen example weights reported in the book.
B18: FEATURE | C18: ACTIVE WEIGHT | D18: GENERATED | E18: BOOK WEIGHTS
B19: 1 (constant) | C19: =IF($C$15,E19,D19) -> 66.794587 | D19: =LEARNING!C9 -> 66.794587 | E19: 71.449
B20: x | C20: =IF($C$15,E20,D20) -> -15.461597 | D20: =LEARNING!C10 -> -15.461597 | E20: -16.881
B21: y | C21: =IF($C$15,E21,D21) -> -20.527653 | D21: =LEARNING!C11 -> -20.527653 | E21: -22.627
B22: x² | C22: =IF($C$15,E22,D22) -> 0.3110792 | D22: =LEARNING!C12 -> 0.3110792 | E22: -0.023
B23: x·y | C23: =IF($C$15,E23,D23) -> -0.16842635 | D23: =LEARNING!C13 -> -0.16842635 | E23: 0.171
B24: y² | C24: =IF($C$15,E24,D24) -> 7.9924764 | D24: =LEARNING!C14 -> 7.9924764 | E24: 8.314
B25: x³ | C25: =IF($C$15,E25,D25) -> -0.025906069 | D25: =LEARNING!C15 -> -0.025906069 | E25: 0.412
B26: x²·y | C26: =IF($C$15,E26,D26) -> 1.7757946 | D26: =LEARNING!C16 -> 1.7757946 | E26: 2.144
B27: x·y² | C27: =IF($C$15,E27,D27) -> 1.9758987 | D27: =LEARNING!C17 -> 1.9758987 | E27: 1.901
B29: RESULTS OF GENERATION LOOP
B31: Route summary
B32: Number of hops | C32: =MAX(B38:B237) -> 13
B33: Total route cost | C33: {=LOOKUP(2,1/(B38:B237<>""),J38:J237)} -> 3.5520009
B34: Destination reached | C34: {=IF(AND(LOOKUP(2,1/(B38:B237<>""),C38:C237)=C9,LOOKUP(2,1/(B38:B237<>""),D38:D237)=D9),"YES","NO")} -> YES
C36: CLICK TITLES TO SEE EXPLANATIONS
B37: {=_xlfn.EXPAND(TIM_INFER(),201,10,"")} -> Hop | C37: X | D37: Y | E37: Z | F37: Heading | G37: Norm Uphill | H37: Norm Distance | I37: Score | J37: Cumulative Decision Score | K37: Distance
B38: 0 | C38: -3 | D38: 3 | E38: 123.14091 | G38: 0 | H38: 0 | I38: 0 | J38: 0 | K38: 7.0710678
B39: 1 | C39: -2.0340742 | D39: 3.258819 | E39: 100.11031 | F39: 15 | G39: 0 | H39: 0 | I39: 0 | J39: 0 | K39: 6.0794243
B40: 2 | C40: -1.0681483 | D40: 3 | E40: 81.668657 | F40: 345 | G40: 0 | H40: 0 | I40: 0 | J40: 0 | K40: 5.1658618
B41: 3 | C41: -0.10222252 | D41: 3.258819 | E41: 84.333351 | F41: 15 | G41: 0.11660766 | H41: 0 | I41: 0.11660766 | J41: 0.11660766 | K41: 4.1686423
B42: 4 | C42: 0.86370331 | D42: 3 | E42: 82.902092 | F42: 345 | G42: 0 | H42: 0 | I42: 0 | J42: 0.11660766 | K42: 3.2918622
B43: 5 | C43: 1.5708101 | D43: 2.2928932 | E43: 63.8838 | F43: 315 | G43: 0 | H43: 0.33820798 | I43: 0.33820798 | J43: 0.45481564 | K43: 2.9690364
B44: 6 | C44: 2.5367359 | D44: 2.0340742 | E44: 63.578484 | F44: 345 | G44: 0 | H44: 0.23892709 | I44: 0.23892709 | J44: 0.69374273 | K44: 2.4507154
B45: 7 | C45: 3.2438427 | D45: 1.3269674 | E45: 41.21926 | F45: 315 | G45: 0 | H45: 0.66328437 | I45: 0.66328437 | J45: 1.3570271 | K45: 2.7779268
B46: 8 | C46: 4.2438427 | D46: 1.3269674 | E46: 47.891017 | F46: 0 | G46: 0.12341217 | H46: 0.45307731 | I46: 0.57648947 | J46: 1.9335166 | K46: 2.6841316
B47: 9 | C47: 4.2438427 | D47: 2.3269674 | E47: 118.47471 | F47: 90 | G47: 0.0070923353 | H47: 0 | I47: 0.0070923353 | J47: 1.9406089 | K47: 1.6907091
B48: 10 | C48: 3.7438427 | D48: 3.1929928 | E48: 180.72915 | F48: 120 | G48: 0.0063000845 | H48: 0 | I48: 0.0063000845 | J48: 1.946909 | K48: 0.84668601
B49: 11 | C49: 2.8778173 | D49: 3.6929928 | E49: 187.52506 | F49: 150 | G49: 0.049424401 | H49: 0.63016691 | I49: 0.67959131 | J49: 2.6265003 | K49: 1.1634206
B50: 12 | C50: 3.8437431 | D50: 3.4341738 | E50: 211.69987 | F50: 345 | G50: 0.18506651 | H50: 0.21175468 | I50: 0.39682119 | J50: 3.0233215 | K50: 0.58700559
B51: 13 | C51: 4 | D51: 4 | E51: 291.45004 | F51: 74.562136 | G51: 0.5286794 | H51: 0 | I51: 0.5286794 | J51: 3.5520009 | K51: 0
